BEGIN:VCALENDAR
VERSION:2.0
PRODID:-//Calvary Ayr - ECPv6.15.20//NONSGML v1.0//EN
CALSCALE:GREGORIAN
METHOD:PUBLISH
X-WR-CALNAME:Calvary Ayr
X-ORIGINAL-URL:https://calvaryayr.ca
X-WR-CALDESC:Events for Calvary Ayr
REFRESH-INTERVAL;VALUE=DURATION:PT1H
X-Robots-Tag:noindex
X-PUBLISHED-TTL:PT1H
BEGIN:VTIMEZONE
TZID:-04:00
END:VTIMEZONE
BEGIN:VEVENT
DTSTART;TZID=-04:00:20260525T130000
DTEND;TZID=-04:00:20260525T130000
DTSTAMP:20260419T222737
CREATED:20260410T064410Z
LAST-MODIFIED:20260416T183822Z
UID:8117-1779714000-1779714000@calvaryayr.ca
SUMMARY:Senior Mens Small Group - Derek Storrs
DESCRIPTION:Mondays at 1PM starting October 6th.  \n \nThis group is all about digging deeper\, sharpening one another\, and living faithfully in every season. As Proverbs reminds us\, “iron sharpens iron.” Through study\, prayer\, and encouragement\, senior men will Know Christ more fully\, share wisdom to help others Grow in Christ\, and strengthen one another to Serve like Christ in everyday life.  \n \nRequest to Join
URL:https://calvaryayr.ca/event/senior-mens-small-group-derek-storrs-3/
ATTACH;FMTTYPE=image/jpeg:https://calvaryayr.ca/wp-content/uploads/cp-sync/events/senior-mens-small-group-derek-storrs-8117-0db01dea344b922233c4604cdf848830.jpg
END:VEVENT
BEGIN:VEVENT
DTSTART;TZID=-04:00:20260525T183000
DTEND;TZID=-04:00:20260525T183000
DTSTAMP:20260419T222737
CREATED:20260410T064410Z
LAST-MODIFIED:20260416T183822Z
UID:8119-1779733800-1779733800@calvaryayr.ca
SUMMARY:Adults Small Group - Dave & Rose Morehouse
DESCRIPTION:Mondays at 6:30PM starting October 6th.  \n \nMarriage and faith are best lived in community. This couples’ group gathers for Bible study\, prayer\, and real conversations about what it means to follow Jesus together. In a supportive and joyful setting\, you’ll Know Christ more deeply\, Grow in Christ with your spouse\, and be equipped to Serve like Christ within your home and beyond. \n \nRequest to Join
URL:https://calvaryayr.ca/event/adults-small-group-dave-rose-morehouse-3/
ATTACH;FMTTYPE=image/jpeg:https://calvaryayr.ca/wp-content/uploads/cp-sync/events/adults-small-group-dave-rose-morehouse-8119-997043450f397aa1ac99b5631019948a.jpg
END:VEVENT
BEGIN:VEVENT
DTSTART;TZID=-04:00:20260525T190000
DTEND;TZID=-04:00:20260525T190000
DTSTAMP:20260419T222737
CREATED:20260410T064411Z
LAST-MODIFIED:20260416T183822Z
UID:8121-1779735600-1779735600@calvaryayr.ca
SUMMARY:Ladies Small Group - Blessing Jayakumar
DESCRIPTION:Mondays at 7PM starting October 6th. \n \nThis group for women is a place to study the Bible in depth\, share openly\, and cover one another in prayer. As you open God’s Word\, you’ll Grow in Christ\, be encouraged in your daily walk\, and build friendships that strengthen your faith. Together\, we’ll discover how God’s truth equips us to live with courage and joy. \n \nRequest to Join
URL:https://calvaryayr.ca/event/ladies-small-group-blessing-jayakumar/
ATTACH;FMTTYPE=image/jpeg:https://calvaryayr.ca/wp-content/uploads/cp-sync/events/ladies-small-group-blessing-jayakumar-8121-47c37870e37f455bb33793636e28d31c.jpg
END:VEVENT
BEGIN:VEVENT
DTSTART;TZID=-04:00:20260526T183000
DTEND;TZID=-04:00:20260526T183000
DTSTAMP:20260419T222737
CREATED:20260411T063934Z
LAST-MODIFIED:20260416T183822Z
UID:8123-1779820200-1779820200@calvaryayr.ca
SUMMARY:Ladies Small Group - Debbie Pinksen
DESCRIPTION:Tuesdays at 6:30PM starting October 7.  \n \nLife is busy\, but you don’t have to walk it alone. This ladies-only group is a space to build friendships\, dive into Scripture\, and be refreshed spiritually. Together\, we’ll Grow in Christ\, encourage one another in prayer\, and find ways to Reach for Christ in our families and community. \n \nRequest to Join
URL:https://calvaryayr.ca/event/ladies-small-group-debbie-pinksen-3/
ATTACH;FMTTYPE=image/jpeg:https://calvaryayr.ca/wp-content/uploads/cp-sync/events/ladies-small-group-debbie-pinksen-8123-adfe37e463c07c7d9ca0497ace599530.jpg
END:VEVENT
BEGIN:VEVENT
DTSTART;TZID=-04:00:20260527T193000
DTEND;TZID=-04:00:20260527T193000
DTSTAMP:20260419T222737
CREATED:20260412T063543Z
LAST-MODIFIED:20260416T183822Z
UID:8125-1779910200-1779910200@calvaryayr.ca
SUMMARY:Small Group - Young Adults
DESCRIPTION:The young adult years are full of questions and decisions that shape the future. This group is a safe space to wrestle with faith\, discuss Sunday messages\, and find real answers in God’s Word. Along the way\, you’ll discover what it means to Know Christ personally\, Grow in Christ together\, and be inspired to Reach for Christ in your studies\, workplaces\, and relationships. Request to Join Group
URL:https://calvaryayr.ca/event/small-group-young-adults-4/
LOCATION:173 Northumberland Street\, 173 Northumberland Street\, Ayr\, Ontar N0B 1E0\, Ayr\, N0B 1E0
ATTACH;FMTTYPE=image/jpeg:https://calvaryayr.ca/wp-content/uploads/cp-sync/events/small-group-young-adults-8125-303b8b21761206eb53a0d80046b54f26.jpg
END:VEVENT
BEGIN:VEVENT
DTSTART;TZID=-04:00:20260528T100000
DTEND;TZID=-04:00:20260528T100000
DTSTAMP:20260419T222737
CREATED:20260413T063711Z
LAST-MODIFIED:20260416T183822Z
UID:8127-1779962400-1779962400@calvaryayr.ca
SUMMARY:cAyr Women
DESCRIPTION:Sundays can be busy at church! We’ve created a space where women can sit and get to know other ladies in our church & community.  \n \nAll women (not just young Moms!) are invited to join us for coffee\, conversation\, a devotional\, encouragement\, and prayer.  \n \nPlease join us!
URL:https://calvaryayr.ca/event/cayr-women-4/
ATTACH;FMTTYPE=image/jpeg:https://calvaryayr.ca/wp-content/uploads/cp-sync/events/cayr-women-8127-514df10ed44b55d8f03308c8fad24956.jpg
END:VEVENT
BEGIN:VEVENT
DTSTART;TZID=-04:00:20260528T190000
DTEND;TZID=-04:00:20260528T190000
DTSTAMP:20260419T222737
CREATED:20260413T063712Z
LAST-MODIFIED:20260416T183822Z
UID:8129-1779994800-1779994800@calvaryayr.ca
SUMMARY:YOUTH\,
DESCRIPTION:
URL:https://calvaryayr.ca/event/youth-5/
ATTACH;FMTTYPE=image/jpeg:https://calvaryayr.ca/wp-content/uploads/cp-sync/events/youth-8129-e4de09077382e4258c68efe09b0aa73a.jpg
END:VEVENT
BEGIN:VEVENT
DTSTART;TZID=-04:00:20260529T170000
DTEND;TZID=-04:00:20260529T170000
DTSTAMP:20260419T222737
CREATED:20260414T063900Z
LAST-MODIFIED:20260416T183822Z
UID:8131-1780074000-1780074000@calvaryayr.ca
SUMMARY:NMC Lessons
DESCRIPTION:
URL:https://calvaryayr.ca/event/nmc-lessons-10/
ATTACH;FMTTYPE=image/jpeg:https://calvaryayr.ca/wp-content/uploads/cp-sync/events/nmc-lessons-8131-94927f2f3d2d10433bfcb762e8bf3591.jpg
END:VEVENT
BEGIN:VEVENT
DTSTART;TZID=-04:00:20260530T100000
DTEND;TZID=-04:00:20260530T100000
DTSTAMP:20260419T222737
CREATED:20260415T063648Z
LAST-MODIFIED:20260416T183822Z
UID:8133-1780135200-1780135200@calvaryayr.ca
SUMMARY:cAyr Women *SATURDAY!
DESCRIPTION:Sundays can be busy at church! We’ve created a space where women can sit and get to know other ladies in our church & community. \n \nAll women (not just young Moms!) are invited to join us for coffee\, conversation\, a devotional\, encouragement\, and prayer. \n \nPlease join us!
URL:https://calvaryayr.ca/event/cayr-women-saturday/
ATTACH;FMTTYPE=image/jpeg:https://calvaryayr.ca/wp-content/uploads/cp-sync/events/cayr-women-saturday-8133-43595c5f4c0891eba5b27084ae5e2dbd.jpg
END:VEVENT
BEGIN:VEVENT
DTSTART;TZID=-04:00:20260531T000000
DTEND;TZID=-04:00:20260531T000000
DTSTAMP:20260419T222737
CREATED:20260416T163652Z
LAST-MODIFIED:20260416T183822Z
UID:8161-1780185600-1780185600@calvaryayr.ca
SUMMARY:Missions Fest
DESCRIPTION:
URL:https://calvaryayr.ca/event/missions-fest/
LOCATION:173 Northumberland Street\, 173 Northumberland Street\, Ayr\, Ontar N0B 1E0\, Ayr\, N0B 1E0
ATTACH;FMTTYPE=image/jpeg:https://calvaryayr.ca/wp-content/uploads/cp-sync/events/missions-fest-8161-82b3ed8941771795a3df7e3ed1967649.jpg
END:VEVENT
BEGIN:VEVENT
DTSTART;TZID=-04:00:20260531T100000
DTEND;TZID=-04:00:20260531T100000
DTSTAMP:20260419T222737
CREATED:20260416T063831Z
LAST-MODIFIED:20260416T183822Z
UID:8135-1780221600-1780221600@calvaryayr.ca
SUMMARY:KIDS\,
DESCRIPTION:Every Sunday during our 10 AM service\, kids experience church designed just for them. After joining the main service for worship\, children head downstairs for age appropriate Bible lessons\, crafts\, games\, and fun activities led by our caring team. \n \nOur goal is to help every child know Jesus\, grow in their faith\, and discover how much God loves them. It is all provided in a safe and welcoming environment. \n \nFirst time visiting? Stop by the Kids Check In station in the atrium and we will be ready to help you get started.
URL:https://calvaryayr.ca/event/kids-3/
LOCATION:173 Northumberland St\, 173 Northumberland St\, Ayr\, ON N0B 1E0\, Ayr\, N0B 1E0
ATTACH;FMTTYPE=image/jpeg:https://calvaryayr.ca/wp-content/uploads/cp-sync/events/kids-8135-e3fb1ae9c04c187c2693a972ca7d131f.jpg
END:VEVENT
BEGIN:VEVENT
DTSTART;TZID=-04:00:20260531T100000
DTEND;TZID=-04:00:20260531T100000
DTSTAMP:20260419T222737
CREATED:20260416T063831Z
LAST-MODIFIED:20260416T183822Z
UID:8137-1780221600-1780221600@calvaryayr.ca
SUMMARY:Sunday Worship
DESCRIPTION:
URL:https://calvaryayr.ca/event/sunday-worship-5/
ATTACH;FMTTYPE=image/jpeg:https://calvaryayr.ca/wp-content/uploads/cp-sync/events/sunday-worship-8137-ba4614eda917e982a40503cb4c9b2b48.jpg
END:VEVENT
END:VCALENDAR