BEGIN:VCALENDAR
VERSION:2.0
PRODID:-//Calvary Ayr - ECPv6.15.20//NONSGML v1.0//EN
CALSCALE:GREGORIAN
METHOD:PUBLISH
X-WR-CALNAME:Calvary Ayr
X-ORIGINAL-URL:https://calvaryayr.ca
X-WR-CALDESC:Events for Calvary Ayr
REFRESH-INTERVAL;VALUE=DURATION:PT1H
X-Robots-Tag:noindex
X-PUBLISHED-TTL:PT1H
BEGIN:VTIMEZONE
TZID:-04:00
END:VTIMEZONE
BEGIN:VEVENT
DTSTART;TZID=-04:00:20260515T170000
DTEND;TZID=-04:00:20260515T170000
DTSTAMP:20260419T222339
CREATED:20260331T063719Z
LAST-MODIFIED:20260416T183821Z
UID:8086-1778864400-1778864400@calvaryayr.ca
SUMMARY:NMC Lessons
DESCRIPTION:
URL:https://calvaryayr.ca/event/nmc-lessons-13/
ATTACH;FMTTYPE=image/jpeg:https://calvaryayr.ca/wp-content/uploads/cp-sync/events/nmc-lessons-8086-bc9c2775f1eb1248fb03a0cdebf43bc3.jpg
END:VEVENT
END:VCALENDAR