BEGIN:VCALENDAR
VERSION:2.0
PRODID:-//Calvary Ayr - ECPv6.15.20//NONSGML v1.0//EN
CALSCALE:GREGORIAN
METHOD:PUBLISH
X-WR-CALNAME:Calvary Ayr
X-ORIGINAL-URL:https://calvaryayr.ca
X-WR-CALDESC:Events for Calvary Ayr
REFRESH-INTERVAL;VALUE=DURATION:PT1H
X-Robots-Tag:noindex
X-PUBLISHED-TTL:PT1H
BEGIN:VTIMEZONE
TZID:-04:00
END:VTIMEZONE
BEGIN:VEVENT
DTSTART;TZID=-04:00:20260511T130000
DTEND;TZID=-04:00:20260511T130000
DTSTAMP:20260419T155619
CREATED:20260327T064250Z
LAST-MODIFIED:20260416T183821Z
UID:8072-1778504400-1778504400@calvaryayr.ca
SUMMARY:Senior Mens Small Group - Derek Storrs
DESCRIPTION:Mondays at 1PM starting October 6th.  \n \nThis group is all about digging deeper\, sharpening one another\, and living faithfully in every season. As Proverbs reminds us\, “iron sharpens iron.” Through study\, prayer\, and encouragement\, senior men will Know Christ more fully\, share wisdom to help others Grow in Christ\, and strengthen one another to Serve like Christ in everyday life.  \n \nRequest to Join
URL:https://calvaryayr.ca/event/senior-mens-small-group-derek-storrs/
ATTACH;FMTTYPE=image/jpeg:https://calvaryayr.ca/wp-content/uploads/cp-sync/events/senior-mens-small-group-derek-storrs-8072-47b50767e0e266abe534d43e5b36e520.jpg
END:VEVENT
BEGIN:VEVENT
DTSTART;TZID=-04:00:20260511T183000
DTEND;TZID=-04:00:20260511T183000
DTSTAMP:20260419T155619
CREATED:20260327T064250Z
LAST-MODIFIED:20260416T183821Z
UID:8074-1778524200-1778524200@calvaryayr.ca
SUMMARY:Adults Small Group - Dave & Rose Morehouse
DESCRIPTION:Mondays at 6:30PM starting October 6th.  \n \nMarriage and faith are best lived in community. This couples’ group gathers for Bible study\, prayer\, and real conversations about what it means to follow Jesus together. In a supportive and joyful setting\, you’ll Know Christ more deeply\, Grow in Christ with your spouse\, and be equipped to Serve like Christ within your home and beyond. \n \nRequest to Join
URL:https://calvaryayr.ca/event/adults-small-group-dave-rose-morehouse/
ATTACH;FMTTYPE=image/jpeg:https://calvaryayr.ca/wp-content/uploads/cp-sync/events/adults-small-group-dave-rose-morehouse-8074-c19e38fc155ea83cc185cb6feef0c053.jpg
END:VEVENT
BEGIN:VEVENT
DTSTART;TZID=-04:00:20260511T190000
DTEND;TZID=-04:00:20260511T190000
DTSTAMP:20260419T155619
CREATED:20260327T064251Z
LAST-MODIFIED:20260416T183821Z
UID:8076-1778526000-1778526000@calvaryayr.ca
SUMMARY:Ladies Small Group - Blessing Jayakumar
DESCRIPTION:Mondays at 7PM starting October 6th. \n \nThis group for women is a place to study the Bible in depth\, share openly\, and cover one another in prayer. As you open God’s Word\, you’ll Grow in Christ\, be encouraged in your daily walk\, and build friendships that strengthen your faith. Together\, we’ll discover how God’s truth equips us to live with courage and joy. \n \nRequest to Join
URL:https://calvaryayr.ca/event/ladies-small-group-blessing-jayakumar-8/
ATTACH;FMTTYPE=image/jpeg:https://calvaryayr.ca/wp-content/uploads/cp-sync/events/ladies-small-group-blessing-jayakumar-8076-d41831f54d2da11ed698fdfc41352049.jpg
END:VEVENT
END:VCALENDAR