BEGIN:VCALENDAR
VERSION:2.0
PRODID:-//Calvary Ayr - ECPv6.15.20//NONSGML v1.0//EN
CALSCALE:GREGORIAN
METHOD:PUBLISH
X-WR-CALNAME:Calvary Ayr
X-ORIGINAL-URL:https://calvaryayr.ca
X-WR-CALDESC:Events for Calvary Ayr
REFRESH-INTERVAL;VALUE=DURATION:PT1H
X-Robots-Tag:noindex
X-PUBLISHED-TTL:PT1H
BEGIN:VTIMEZONE
TZID:-04:00
END:VTIMEZONE
BEGIN:VEVENT
DTSTART;TZID=-04:00:20260423T100000
DTEND;TZID=-04:00:20260423T100000
DTSTAMP:20260419T190847
CREATED:20260319T180551Z
LAST-MODIFIED:20260416T183819Z
UID:8016-1776938400-1776938400@calvaryayr.ca
SUMMARY:cAyr Women
DESCRIPTION:Sundays can be busy at church! We’ve created a space where women can sit and get to know other ladies in our church & community.  \n \nAll women (not just young Moms!) are invited to join us for coffee\, conversation\, a devotional\, encouragement\, and prayer.  \n \nPlease join us!
URL:https://calvaryayr.ca/event/cayr-women-6/
ATTACH;FMTTYPE=image/jpeg:https://calvaryayr.ca/wp-content/uploads/cp-sync/events/cayr-women-8016-d080693193350550a106e41e27e6d86a.jpg
END:VEVENT
BEGIN:VEVENT
DTSTART;TZID=-04:00:20260423T190000
DTEND;TZID=-04:00:20260423T190000
DTSTAMP:20260419T190847
CREATED:20260319T180551Z
LAST-MODIFIED:20260416T183820Z
UID:8018-1776970800-1776970800@calvaryayr.ca
SUMMARY:YOUTH\,
DESCRIPTION:
URL:https://calvaryayr.ca/event/youth-7/
ATTACH;FMTTYPE=image/jpeg:https://calvaryayr.ca/wp-content/uploads/cp-sync/events/youth-8018-1e611e25e694f30760eb28bb8f9a20f7.jpg
END:VEVENT
END:VCALENDAR