BEGIN:VCALENDAR
VERSION:2.0
PRODID:-//Calvary Ayr - ECPv6.15.20//NONSGML v1.0//EN
CALSCALE:GREGORIAN
METHOD:PUBLISH
X-ORIGINAL-URL:https://calvaryayr.ca
X-WR-CALDESC:Events for Calvary Ayr
REFRESH-INTERVAL;VALUE=DURATION:PT1H
X-Robots-Tag:noindex
X-PUBLISHED-TTL:PT1H
BEGIN:VTIMEZONE
TZID:-04:00
END:VTIMEZONE
BEGIN:VEVENT
DTSTART;TZID=-04:00:20260417T170000
DTEND;TZID=-04:00:20260417T170000
DTSTAMP:20260425T072017
CREATED:20260319T180546Z
LAST-MODIFIED:20260416T183819Z
UID:7998-1776445200-1776445200@calvaryayr.ca
SUMMARY:NMC Lessons
DESCRIPTION:
URL:https://calvaryayr.ca/event/nmc-lessons-3/
ATTACH;FMTTYPE=image/jpeg:https://calvaryayr.ca/wp-content/uploads/cp-sync/events/nmc-lessons-7998-056cd9734cce714362dab39be66bd0d2.jpg
END:VEVENT
END:VCALENDAR