BEGIN:VCALENDAR
VERSION:2.0
PRODID:-//Calvary Ayr - ECPv6.15.20//NONSGML v1.0//EN
CALSCALE:GREGORIAN
METHOD:PUBLISH
X-ORIGINAL-URL:https://calvaryayr.ca
X-WR-CALDESC:Events for Calvary Ayr
REFRESH-INTERVAL;VALUE=DURATION:PT1H
X-Robots-Tag:noindex
X-PUBLISHED-TTL:PT1H
BEGIN:VTIMEZONE
TZID:-05:00
END:VTIMEZONE
BEGIN:VEVENT
DTSTART;TZID=-05:00:20251218T100000
DTEND;TZID=-05:00:20251218T100000
DTSTAMP:20260423T115319
CREATED:20251129T022458Z
LAST-MODIFIED:20251129T022459Z
UID:7099-1766052000-1766052000@calvaryayr.ca
SUMMARY:cAyr Women
DESCRIPTION:All women are welcome to come together\, enjoy a coffee & conversation\, as we build community!
URL:https://calvaryayr.ca/event/cayr-women-3/
ATTACH;FMTTYPE=image/jpeg:https://calvaryayr.ca/wp-content/uploads/cp-sync/events/cayr-women-7099-6df89d1e6f4bb1c939dd9490f772781d.jpg
END:VEVENT
BEGIN:VEVENT
DTSTART;TZID=-05:00:20251218T190000
DTEND;TZID=-05:00:20251218T190000
DTSTAMP:20260423T115319
CREATED:20251129T022459Z
LAST-MODIFIED:20251129T022500Z
UID:7103-1766084400-1766084400@calvaryayr.ca
SUMMARY:Youth
DESCRIPTION:
URL:https://calvaryayr.ca/event/youth-4/
ATTACH;FMTTYPE=image/jpeg:https://calvaryayr.ca/wp-content/uploads/cp-sync/events/youth-7103-dc3a6b475e3b80c78cf6a971dd93190e.jpg
END:VEVENT
END:VCALENDAR