BEGIN:VCALENDAR
VERSION:2.0
PRODID:-//Calvary Ayr - ECPv6.15.20//NONSGML v1.0//EN
CALSCALE:GREGORIAN
METHOD:PUBLISH
X-ORIGINAL-URL:https://calvaryayr.ca
X-WR-CALDESC:Events for Calvary Ayr
REFRESH-INTERVAL;VALUE=DURATION:PT1H
X-Robots-Tag:noindex
X-PUBLISHED-TTL:PT1H
BEGIN:VTIMEZONE
TZID:-05:00
END:VTIMEZONE
BEGIN:VEVENT
DTSTART;TZID=-05:00:20251215T130000
DTEND;TZID=-05:00:20251215T130000
DTSTAMP:20260423T115445
CREATED:20251129T022454Z
LAST-MODIFIED:20251129T022455Z
UID:7079-1765803600-1765803600@calvaryayr.ca
SUMMARY:Senior Mens Small Group
DESCRIPTION:Mondays at 1PM starting October 6th.  \n \nThis group is all about digging deeper\, sharpening one another\, and living faithfully in every season. As Proverbs reminds us\, “iron sharpens iron.” Through study\, prayer\, and encouragement\, senior men will Know Christ more fully\, share wisdom to help others Grow in Christ\, and strengthen one another to Serve like Christ in everyday life.  \n \nRequest to Join
URL:https://calvaryayr.ca/event/senior-mens-small-group-3/
ATTACH;FMTTYPE=image/jpeg:https://calvaryayr.ca/wp-content/uploads/cp-sync/events/senior-mens-small-group-7079-3fe3f7c5a3b850ee94d8f74a323f1822.jpg
END:VEVENT
BEGIN:VEVENT
DTSTART;TZID=-05:00:20251215T183000
DTEND;TZID=-05:00:20251215T183000
DTSTAMP:20260423T115445
CREATED:20251129T022455Z
LAST-MODIFIED:20251129T022456Z
UID:7083-1765823400-1765823400@calvaryayr.ca
SUMMARY:Dave & Rose Morehouse - Small Group
DESCRIPTION:Mondays at 6:30PM starting October 6th.  \n \nMarriage and faith are best lived in community. This couples’ group gathers for Bible study\, prayer\, and real conversations about what it means to follow Jesus together. In a supportive and joyful setting\, you’ll Know Christ more deeply\, Grow in Christ with your spouse\, and be equipped to Serve like Christ within your home and beyond. \n \nRequest to Join
URL:https://calvaryayr.ca/event/dave-rose-morehouse-small-group-3/
ATTACH;FMTTYPE=image/jpeg:https://calvaryayr.ca/wp-content/uploads/cp-sync/events/dave-rose-morehouse-small-group-7083-aff0cc7cf2adaaa1663bc6ad4d1e50a7.jpg
END:VEVENT
BEGIN:VEVENT
DTSTART;TZID=-05:00:20251215T190000
DTEND;TZID=-05:00:20251215T190000
DTSTAMP:20260423T115445
CREATED:20251129T022456Z
LAST-MODIFIED:20251129T022457Z
UID:7087-1765825200-1765825200@calvaryayr.ca
SUMMARY:Ladies Small Group - Blessing Jayakumar
DESCRIPTION:Mondays at 7PM starting October 6th. \n \nThis group for women is a place to study the Bible in depth\, share openly\, and cover one another in prayer. As you open God’s Word\, you’ll Grow in Christ\, be encouraged in your daily walk\, and build friendships that strengthen your faith. Together\, we’ll discover how God’s truth equips us to live with courage and joy. \n \nRequest to Join
URL:https://calvaryayr.ca/event/ladies-small-group-blessing-jayakumar-3/
ATTACH;FMTTYPE=image/jpeg:https://calvaryayr.ca/wp-content/uploads/cp-sync/events/ladies-small-group-blessing-jayakumar-7087-9efba01c797ba1c3a8c7e0226442c60d.jpg
END:VEVENT
END:VCALENDAR