BEGIN:VCALENDAR
VERSION:2.0
PRODID:-//Calvary Ayr - ECPv6.15.20//NONSGML v1.0//EN
CALSCALE:GREGORIAN
METHOD:PUBLISH
X-ORIGINAL-URL:https://calvaryayr.ca
X-WR-CALDESC:Events for Calvary Ayr
REFRESH-INTERVAL;VALUE=DURATION:PT1H
X-Robots-Tag:noindex
X-PUBLISHED-TTL:PT1H
BEGIN:VTIMEZONE
TZID:-05:00
END:VTIMEZONE
BEGIN:VEVENT
DTSTART;TZID=-05:00:20251203T180000
DTEND;TZID=-05:00:20251203T180000
DTSTAMP:20260423T115347
CREATED:20251129T022254Z
LAST-MODIFIED:20251129T022521Z
UID:6856-1764784800-1764784800@calvaryayr.ca
SUMMARY:Alpha Small Group
DESCRIPTION:Running Wednesday\, Oct 1 to Wednesday\, Dec 10 at 6 PM. \n \nCurious about faith or looking for a safe place to explore life’s biggest questions? Alpha is for you! Together\, we’ll share meals\, watch thought-provoking videos\, and have open\, honest conversations about God\, life\, and purpose. It’s a welcoming space to Know Christ in a deeper way and invite friends who may be searching. Come meet new people\, build connections\, and begin a journey of faith that can change everything. \n \nChildcare available (ages 4–12) upon request. \n \nSign Up Here
URL:https://calvaryayr.ca/event/alpha-small-group/
LOCATION:173 Northumberland St\, 173 Northumberland St\, Ayr\, ON N0B 1E0\, Ayr\, N0B 1E0
ATTACH;FMTTYPE=image/jpeg:https://calvaryayr.ca/wp-content/uploads/cp-sync/events/alpha-small-group-6856-9cfb49a1ffe4581000cb95b065844913.jpg
END:VEVENT
END:VCALENDAR