BEGIN:VCALENDAR
VERSION:2.0
PRODID:-//Calvary Ayr - ECPv6.15.20//NONSGML v1.0//EN
CALSCALE:GREGORIAN
METHOD:PUBLISH
X-WR-CALNAME:Calvary Ayr
X-ORIGINAL-URL:https://calvaryayr.ca
X-WR-CALDESC:Events for Calvary Ayr
REFRESH-INTERVAL;VALUE=DURATION:PT1H
X-Robots-Tag:noindex
X-PUBLISHED-TTL:PT1H
BEGIN:VTIMEZONE
TZID:-04:00
END:VTIMEZONE
BEGIN:VEVENT
DTSTART;TZID=-04:00:20260507T190000
DTEND;TZID=-04:00:20260507T190000
DTSTAMP:20260419T143911
CREATED:20260323T063726Z
LAST-MODIFIED:20260416T183821Z
UID:8064-1778180400-1778180400@calvaryayr.ca
SUMMARY:YOUTH\,
DESCRIPTION:
URL:https://calvaryayr.ca/event/youth-9/
ATTACH;FMTTYPE=image/jpeg:https://calvaryayr.ca/wp-content/uploads/cp-sync/events/youth-8064-75beb57db5958a435ee3ab4e03d00c8f.jpg
END:VEVENT
END:VCALENDAR