BEGIN:VCALENDAR
VERSION:2.0
PRODID:-//Calvary Ayr - ECPv6.15.20//NONSGML v1.0//EN
CALSCALE:GREGORIAN
METHOD:PUBLISH
X-WR-CALNAME:Calvary Ayr
X-ORIGINAL-URL:https://calvaryayr.ca
X-WR-CALDESC:Events for Calvary Ayr
REFRESH-INTERVAL;VALUE=DURATION:PT1H
X-Robots-Tag:noindex
X-PUBLISHED-TTL:PT1H
BEGIN:VTIMEZONE
TZID:-04:00
END:VTIMEZONE
BEGIN:VEVENT
DTSTART;TZID=-04:00:20260510T100000
DTEND;TZID=-04:00:20260510T100000
DTSTAMP:20260419T174938
CREATED:20260326T063927Z
LAST-MODIFIED:20260416T183821Z
UID:8070-1778407200-1778407200@calvaryayr.ca
SUMMARY:Sunday Worship
DESCRIPTION:
URL:https://calvaryayr.ca/event/sunday-worship-9/
ATTACH;FMTTYPE=image/jpeg:https://calvaryayr.ca/wp-content/uploads/cp-sync/events/sunday-worship-8070-dca5a3772aaea039ecaff00b700e9833.jpg
END:VEVENT
END:VCALENDAR