BEGIN:VCALENDAR
VERSION:2.0
PRODID:-//Calvary Ayr - ECPv6.15.20//NONSGML v1.0//EN
CALSCALE:GREGORIAN
METHOD:PUBLISH
X-WR-CALNAME:Calvary Ayr
X-ORIGINAL-URL:https://calvaryayr.ca
X-WR-CALDESC:Events for Calvary Ayr
REFRESH-INTERVAL;VALUE=DURATION:PT1H
X-Robots-Tag:noindex
X-PUBLISHED-TTL:PT1H
BEGIN:VTIMEZONE
TZID:-04:00
END:VTIMEZONE
BEGIN:VEVENT
DTSTART;TZID=-04:00:20260420T130000
DTEND;TZID=-04:00:20260420T130000
DTSTAMP:20260423T082138
CREATED:20260319T180548Z
LAST-MODIFIED:20260416T183819Z
UID:8004-1776690000-1776690000@calvaryayr.ca
SUMMARY:Senior Mens Small Group - Derek Storrs
DESCRIPTION:Mondays at 1PM starting October 6th.  \n \nThis group is all about digging deeper\, sharpening one another\, and living faithfully in every season. As Proverbs reminds us\, “iron sharpens iron.” Through study\, prayer\, and encouragement\, senior men will Know Christ more fully\, share wisdom to help others Grow in Christ\, and strengthen one another to Serve like Christ in everyday life.  \n \nRequest to Join
URL:https://calvaryayr.ca/event/senior-mens-small-group-5/
ATTACH;FMTTYPE=image/jpeg:https://calvaryayr.ca/wp-content/uploads/cp-sync/events/senior-mens-small-group-8004-b2ab15c5ffcd46b7730db904be7513d8.jpg
END:VEVENT
END:VCALENDAR