BEGIN:VCALENDAR
VERSION:2.0
PRODID:-//Calvary Ayr - ECPv6.15.20//NONSGML v1.0//EN
CALSCALE:GREGORIAN
METHOD:PUBLISH
X-WR-CALNAME:Calvary Ayr
X-ORIGINAL-URL:https://calvaryayr.ca
X-WR-CALDESC:Events for Calvary Ayr
REFRESH-INTERVAL;VALUE=DURATION:PT1H
X-Robots-Tag:noindex
X-PUBLISHED-TTL:PT1H
BEGIN:VTIMEZONE
TZID:-05:00
END:VTIMEZONE
BEGIN:VEVENT
DTSTART;TZID=-05:00:20251201T183000
DTEND;TZID=-05:00:20251201T183000
DTSTAMP:20260420T035718
CREATED:20251129T022248Z
LAST-MODIFIED:20251129T022520Z
UID:6833-1764613800-1764613800@calvaryayr.ca
SUMMARY:Dave & Rose Morehouse - Small Group
DESCRIPTION:Mondays at 6:30PM starting October 6th.  \n \nMarriage and faith are best lived in community. This couples’ group gathers for Bible study\, prayer\, and real conversations about what it means to follow Jesus together. In a supportive and joyful setting\, you’ll Know Christ more deeply\, Grow in Christ with your spouse\, and be equipped to Serve like Christ within your home and beyond. \n \nRequest to Join
URL:https://calvaryayr.ca/event/dave-rose-morehouse-small-group-2/
ATTACH;FMTTYPE=image/jpeg:https://calvaryayr.ca/wp-content/uploads/cp-sync/events/dave-rose-morehouse-small-group-6833-e7043186dd19ac7b5f0cc23b3ce55b4e.jpg
END:VEVENT
END:VCALENDAR